BEGIN:VCALENDAR
VERSION:2.0
PRODID:-//ASD Cilento Scuba Dream - ECPv6.15.20//NONSGML v1.0//EN
CALSCALE:GREGORIAN
METHOD:PUBLISH
X-ORIGINAL-URL:https://cilentoscubadream.com
X-WR-CALDESC:Eventi per ASD Cilento Scuba Dream
REFRESH-INTERVAL;VALUE=DURATION:PT1H
X-Robots-Tag:noindex
X-PUBLISHED-TTL:PT1H
BEGIN:VTIMEZONE
TZID:UTC
BEGIN:STANDARD
TZOFFSETFROM:+0000
TZOFFSETTO:+0000
TZNAME:UTC
DTSTART:20230101T000000
END:STANDARD
END:VTIMEZONE
BEGIN:VEVENT
DTSTART;TZID=UTC:20240724T093000
DTEND;TZID=UTC:20240724T150000
DTSTAMP:20260421T091653
CREATED:20240623T204858Z
LAST-MODIFIED:20240724T205358Z
UID:516-1721813400-1721833200@cilentoscubadream.com
SUMMARY:Immersioni nell'Antropocene
DESCRIPTION:Attività divulgativa per ragazzi svolta insieme a @Moolti \nSpiaggia di Sapri
URL:https://cilentoscubadream.com/eventi/immersioni-nellantropocene/
CATEGORIES:Weekend a tema
END:VEVENT
BEGIN:VEVENT
DTSTART;TZID=UTC:20240713T000000
DTEND;TZID=UTC:20240714T235900
DTSTAMP:20260421T091653
CREATED:20240519T155627Z
LAST-MODIFIED:20240520T154708Z
UID:407-1720828800-1721001540@cilentoscubadream.com
SUMMARY:Basic Research Diver
DESCRIPTION:Corso Citizen Scientist with Padi / DAN \nPartecipa attivamente alla ricerca scientifica sulla biologia marina e medicina subacquea \nPer informazioni contattateci via email.
URL:https://cilentoscubadream.com/eventi/citizen-scientists-weekend/
LOCATION:ASD Profondo Blu\, Via Pali\, Sapri\, SA\, Italia
CATEGORIES:Corso,Weekend a tema
ATTACH;FMTTYPE=image/jpeg:https://cilentoscubadream.com/wp-content/uploads/2024/04/P8203264.jpg
END:VEVENT
END:VCALENDAR