BEGIN:VCALENDAR
VERSION:2.0
PRODID:-//ASD Cilento Scuba Dream - ECPv6.15.20//NONSGML v1.0//EN
CALSCALE:GREGORIAN
METHOD:PUBLISH
X-WR-CALNAME:ASD Cilento Scuba Dream
X-ORIGINAL-URL:https://cilentoscubadream.com
X-WR-CALDESC:Eventi per ASD Cilento Scuba Dream
REFRESH-INTERVAL;VALUE=DURATION:PT1H
X-Robots-Tag:noindex
X-PUBLISHED-TTL:PT1H
BEGIN:VTIMEZONE
TZID:UTC
BEGIN:STANDARD
TZOFFSETFROM:+0000
TZOFFSETTO:+0000
TZNAME:UTC
DTSTART:20230101T000000
END:STANDARD
END:VTIMEZONE
BEGIN:VEVENT
DTSTART;TZID=UTC:20240809T080000
DTEND;TZID=UTC:20240809T130000
DTSTAMP:20260421T090809
CREATED:20240719T154744Z
LAST-MODIFIED:20250617T184140Z
UID:513-1723190400-1723208400@cilentoscubadream.com
SUMMARY:Uscita 2 imm
DESCRIPTION:Partiremo dal San Giorgio alle 8am di mattina per due immersioni lungo la costa di Maratea
URL:https://cilentoscubadream.com/eventi/uscita-2-imm/
CATEGORIES:Uscita mattiniera
END:VEVENT
END:VCALENDAR